BEGIN:VCALENDAR
VERSION:2.0
PRODID:-//85.13.129.106//NONSGML kigkonsult.se iCalcreator 2.10.23//
BEGIN:VEVENT
UID:20260425T151611CEST-68506t9BAS@85.13.129.106
DTSTAMP:20260425T131611Z
DESCRIPTION:
DTSTART;TZID=Europe/Berlin:20150822T103000
DTEND;TZID=Europe/Berlin:20150822T121500
LOCATION:
SUMMARY:15/16 D1-Jun. Landespokal: FC Steinbach-Hallenberg D - 1. Suhler SV
  06 D
END:VEVENT
BEGIN:VEVENT
UID:20260425T151611CEST-6859U13rr9@85.13.129.106
DTSTAMP:20260425T131611Z
DESCRIPTION:
DTSTART;TZID=Europe/Berlin:20150920T103000
DTEND;TZID=Europe/Berlin:20150920T121500
LOCATION:
SUMMARY:15/16 D1-Jun. Landespokal: 1. Suhler SV 06 D - SG SpG Helba D
END:VEVENT
BEGIN:VEVENT
UID:20260425T151611CEST-6867s54eaD@85.13.129.106
DTSTAMP:20260425T131611Z
DESCRIPTION:
DTSTART;TZID=Europe/Berlin:20151113T183000
DTEND;TZID=Europe/Berlin:20151113T201500
LOCATION:
SUMMARY:15/16 D1-Jun. Landespokal: FC Rot-Weiß Erfurt D - 1. Suhler SV 06 D
END:VEVENT
END:VCALENDAR
