BEGIN:VCALENDAR
VERSION:2.0
PRODID:-//85.13.129.106//NONSGML kigkonsult.se iCalcreator 2.10.23//
BEGIN:VEVENT
UID:20260422T164229CEST-5656EATRGu@85.13.129.106
DTSTAMP:20260422T144229Z
DESCRIPTION:
DTSTART;TZID=Europe/Berlin:20150829T103000
DTEND;TZID=Europe/Berlin:20150829T121500
LOCATION:
SUMMARY:15/16 D1-Jun. VL: SG Sbg.-W./ Schalkau D - FSV Sömmerda D
END:VEVENT
BEGIN:VEVENT
UID:20260422T164229CEST-5660bczljr@85.13.129.106
DTSTAMP:20260422T144229Z
DESCRIPTION:
DTSTART;TZID=Europe/Berlin:20150906T103000
DTEND;TZID=Europe/Berlin:20150906T121500
LOCATION:
SUMMARY:15/16 D1-Jun. VL: SG Sbg.-W./ Schalkau D - SV Westring Gotha D
END:VEVENT
BEGIN:VEVENT
UID:20260422T164229CEST-5664GGNEUO@85.13.129.106
DTSTAMP:20260422T144229Z
DESCRIPTION:
DTSTART;TZID=Europe/Berlin:20150912T103000
DTEND;TZID=Europe/Berlin:20150912T121500
LOCATION:
SUMMARY:15/16 D1-Jun. VL: SG Sbg.-W./ Schalkau D - FC Carl Zeiss Jena D2
END:VEVENT
BEGIN:VEVENT
UID:20260422T164229CEST-56695gb9Xl@85.13.129.106
DTSTAMP:20260422T144229Z
DESCRIPTION:
DTSTART;TZID=Europe/Berlin:20151003T103000
DTEND;TZID=Europe/Berlin:20151003T121500
LOCATION:
SUMMARY:15/16 D1-Jun. VL: SG Steinach D - SG Sbg.-W./ Schalkau D
END:VEVENT
BEGIN:VEVENT
UID:20260422T164229CEST-5675A5augD@85.13.129.106
DTSTAMP:20260422T144229Z
DESCRIPTION:
DTSTART;TZID=Europe/Berlin:20151024T103000
DTEND;TZID=Europe/Berlin:20151024T121500
LOCATION:
SUMMARY:15/16 D1-Jun. VL: SG VfB Apolda D - SG Sbg.-W./ Schalkau D
END:VEVENT
BEGIN:VEVENT
UID:20260422T164229CEST-5679OUdZ2c@85.13.129.106
DTSTAMP:20260422T144229Z
DESCRIPTION:
DTSTART;TZID=Europe/Berlin:20151031T103000
DTEND;TZID=Europe/Berlin:20151031T121500
LOCATION:
SUMMARY:15/16 D1-Jun. VL: SG Sbg.-W./ Schalkau D - FSV Wacker 03 Gotha D
END:VEVENT
BEGIN:VEVENT
UID:20260422T164229CEST-5683xjb3kn@85.13.129.106
DTSTAMP:20260422T144229Z
DESCRIPTION:
DTSTART;TZID=Europe/Berlin:20151107T103000
DTEND;TZID=Europe/Berlin:20151107T121500
LOCATION:
SUMMARY:15/16 D1-Jun. VL: SG SpG Helba D - SG Sbg.-W./ Schalkau D
END:VEVENT
BEGIN:VEVENT
UID:20260422T164229CEST-56886WvhO0@85.13.129.106
DTSTAMP:20260422T144229Z
DESCRIPTION:
DTSTART;TZID=Europe/Berlin:20160410T103000
DTEND;TZID=Europe/Berlin:20160410T121500
LOCATION:
SUMMARY:15/16 D1-Jun. VL: SG Sbg.-W./ Schalkau D - FC Rot-Weiß Erfurt D2
END:VEVENT
BEGIN:VEVENT
UID:20260422T164229CEST-5692ZX4DTN@85.13.129.106
DTSTAMP:20260422T144229Z
DESCRIPTION:
DTSTART;TZID=Europe/Berlin:20160420T180000
DTEND;TZID=Europe/Berlin:20160420T194500
LOCATION:
SUMMARY:15/16 D1-Jun. VL: 1. Suhler SV 06 D - SG Sbg.-W./ Schalkau D
END:VEVENT
BEGIN:VEVENT
UID:20260422T164229CEST-5696uP4FTf@85.13.129.106
DTSTAMP:20260422T144229Z
DESCRIPTION:
DTSTART;TZID=Europe/Berlin:20151206T120000
DTEND;TZID=Europe/Berlin:20151206T134500
LOCATION:
SUMMARY:15/16 D1-Jun. VL: VfB Oberweimar D - SG Sbg.-W./ Schalkau D
END:VEVENT
BEGIN:VEVENT
UID:20260422T164229CEST-5700soW8h8@85.13.129.106
DTSTAMP:20260422T144229Z
DESCRIPTION:
DTSTART;TZID=Europe/Berlin:20151114T100000
DTEND;TZID=Europe/Berlin:20151114T114500
LOCATION:
SUMMARY:15/16 D1-Jun. VL: SV Germania Ilmenau D - SG Sbg.-W./ Schalkau D
END:VEVENT
BEGIN:VEVENT
UID:20260422T164229CEST-5704OxE3Xn@85.13.129.106
DTSTAMP:20260422T144229Z
DESCRIPTION:
DTSTART;TZID=Europe/Berlin:20160227T103000
DTEND;TZID=Europe/Berlin:20160227T121500
LOCATION:
SUMMARY:15/16 D1-Jun. VL: FSV Sömmerda D - SG Sbg.-W./ Schalkau D
END:VEVENT
BEGIN:VEVENT
UID:20260422T164229CEST-57098vBVsJ@85.13.129.106
DTSTAMP:20260422T144229Z
DESCRIPTION:
DTSTART;TZID=Europe/Berlin:20160305T103000
DTEND;TZID=Europe/Berlin:20160305T121500
LOCATION:
SUMMARY:15/16 D1-Jun. VL: SV Westring Gotha D - SG Sbg.-W./ Schalkau D
END:VEVENT
BEGIN:VEVENT
UID:20260422T164229CEST-57139TMGUp@85.13.129.106
DTSTAMP:20260422T144229Z
DESCRIPTION:
DTSTART;TZID=Europe/Berlin:20160312T103000
DTEND;TZID=Europe/Berlin:20160312T121500
LOCATION:
SUMMARY:15/16 D1-Jun. VL: FC Carl Zeiss Jena D2 - SG Sbg.-W./ Schalkau D
END:VEVENT
BEGIN:VEVENT
UID:20260422T164229CEST-5717FsmTR2@85.13.129.106
DTSTAMP:20260422T144229Z
DESCRIPTION:
DTSTART;TZID=Europe/Berlin:20160319T103000
DTEND;TZID=Europe/Berlin:20160319T121500
LOCATION:
SUMMARY:15/16 D1-Jun. VL: SG Sbg.-W./ Schalkau D - SG Steinach D
END:VEVENT
BEGIN:VEVENT
UID:20260422T164229CEST-5721UWtfAs@85.13.129.106
DTSTAMP:20260422T144229Z
DESCRIPTION:
DTSTART;TZID=Europe/Berlin:20160416T103000
DTEND;TZID=Europe/Berlin:20160416T121500
LOCATION:
SUMMARY:15/16 D1-Jun. VL: SG Sbg.-W./ Schalkau D - SG VfB Apolda D
END:VEVENT
BEGIN:VEVENT
UID:20260422T164229CEST-5726KhOaTi@85.13.129.106
DTSTAMP:20260422T144229Z
DESCRIPTION:
DTSTART;TZID=Europe/Berlin:20160423T093000
DTEND;TZID=Europe/Berlin:20160423T111500
LOCATION:
SUMMARY:15/16 D1-Jun. VL: FSV Wacker 03 Gotha D - SG Sbg.-W./ Schalkau D
END:VEVENT
BEGIN:VEVENT
UID:20260422T164229CEST-5730d2dRCI@85.13.129.106
DTSTAMP:20260422T144229Z
DESCRIPTION:
DTSTART;TZID=Europe/Berlin:20160507T103000
DTEND;TZID=Europe/Berlin:20160507T121500
LOCATION:
SUMMARY:15/16 D1-Jun. VL: SG Sbg.-W./ Schalkau D - SG SpG Helba D
END:VEVENT
BEGIN:VEVENT
UID:20260422T164229CEST-5734606VMC@85.13.129.106
DTSTAMP:20260422T144229Z
DESCRIPTION:
DTSTART;TZID=Europe/Berlin:20160514T103000
DTEND;TZID=Europe/Berlin:20160514T121500
LOCATION:
SUMMARY:15/16 D1-Jun. VL: FC Rot-Weiß Erfurt D2 - SG Sbg.-W./ Schalkau D
END:VEVENT
BEGIN:VEVENT
UID:20260422T164229CEST-5739t1ZaCc@85.13.129.106
DTSTAMP:20260422T144229Z
DESCRIPTION:
DTSTART;TZID=Europe/Berlin:20160521T103000
DTEND;TZID=Europe/Berlin:20160521T121500
LOCATION:
SUMMARY:15/16 D1-Jun. VL: SG Sbg.-W./ Schalkau D - 1. Suhler SV 06 D
END:VEVENT
BEGIN:VEVENT
UID:20260422T164229CEST-5743uLpvMV@85.13.129.106
DTSTAMP:20260422T144229Z
DESCRIPTION:
DTSTART;TZID=Europe/Berlin:20160529T103000
DTEND;TZID=Europe/Berlin:20160529T121500
LOCATION:
SUMMARY:15/16 D1-Jun. VL: SG Sbg.-W./ Schalkau D - VfB Oberweimar D
END:VEVENT
BEGIN:VEVENT
UID:20260422T164229CEST-5747ujO0Pf@85.13.129.106
DTSTAMP:20260422T144229Z
DESCRIPTION:
DTSTART;TZID=Europe/Berlin:20160604T103000
DTEND;TZID=Europe/Berlin:20160604T121500
LOCATION:
SUMMARY:15/16 D1-Jun. VL: SG Sbg.-W./ Schalkau D - SV Germania Ilmenau D
END:VEVENT
END:VCALENDAR
