BEGIN:VCALENDAR
VERSION:2.0
PRODID:-//85.13.129.106//NONSGML kigkonsult.se iCalcreator 2.10.23//
BEGIN:VEVENT
UID:20260421T123530CEST-5861j4b5zD@85.13.129.106
DTSTAMP:20260421T103530Z
DESCRIPTION:
DTSTART;TZID=Europe/Berlin:20150829T103000
DTEND;TZID=Europe/Berlin:20150829T121500
LOCATION:
SUMMARY:15/16 D1-Jun. VL: FSV Wacker 03 Gotha D - SV Germania Ilmenau D
END:VEVENT
BEGIN:VEVENT
UID:20260421T123530CEST-5866GPtJ7f@85.13.129.106
DTSTAMP:20260421T103530Z
DESCRIPTION:
DTSTART;TZID=Europe/Berlin:20150905T103000
DTEND;TZID=Europe/Berlin:20150905T121500
LOCATION:
SUMMARY:15/16 D1-Jun. VL: SV Germania Ilmenau D - SG SpG Helba D
END:VEVENT
BEGIN:VEVENT
UID:20260421T123530CEST-5870kdPeVj@85.13.129.106
DTSTAMP:20260421T103530Z
DESCRIPTION:
DTSTART;TZID=Europe/Berlin:20150912T103000
DTEND;TZID=Europe/Berlin:20150912T121500
LOCATION:
SUMMARY:15/16 D1-Jun. VL: FC Rot-Weiß Erfurt D2 - SV Germania Ilmenau D
END:VEVENT
BEGIN:VEVENT
UID:20260421T123530CEST-5875bnH5Cb@85.13.129.106
DTSTAMP:20260421T103530Z
DESCRIPTION:
DTSTART;TZID=Europe/Berlin:20151003T103000
DTEND;TZID=Europe/Berlin:20151003T121500
LOCATION:
SUMMARY:15/16 D1-Jun. VL: SV Germania Ilmenau D - 1. Suhler SV 06 D
END:VEVENT
BEGIN:VEVENT
UID:20260421T123530CEST-5879x2Gooj@85.13.129.106
DTSTAMP:20260421T103530Z
DESCRIPTION:
DTSTART;TZID=Europe/Berlin:20151025T120000
DTEND;TZID=Europe/Berlin:20151025T134500
LOCATION:
SUMMARY:15/16 D1-Jun. VL: VfB Oberweimar D - SV Germania Ilmenau D
END:VEVENT
BEGIN:VEVENT
UID:20260421T123530CEST-5883aIBKzi@85.13.129.106
DTSTAMP:20260421T103530Z
DESCRIPTION:
DTSTART;TZID=Europe/Berlin:20151031T103000
DTEND;TZID=Europe/Berlin:20151031T121500
LOCATION:
SUMMARY:15/16 D1-Jun. VL: SV Germania Ilmenau D - SG VfB Apolda D
END:VEVENT
BEGIN:VEVENT
UID:20260421T123530CEST-5888KVUkmO@85.13.129.106
DTSTAMP:20260421T103530Z
DESCRIPTION:
DTSTART;TZID=Europe/Berlin:20151107T103000
DTEND;TZID=Europe/Berlin:20151107T121500
LOCATION:
SUMMARY:15/16 D1-Jun. VL: SV Germania Ilmenau D - FSV Sömmerda D
END:VEVENT
BEGIN:VEVENT
UID:20260421T123530CEST-5892vpiTbN@85.13.129.106
DTSTAMP:20260421T103530Z
DESCRIPTION:
DTSTART;TZID=Europe/Berlin:20160409T103000
DTEND;TZID=Europe/Berlin:20160409T121500
LOCATION:
SUMMARY:15/16 D1-Jun. VL: SV Westring Gotha D - SV Germania Ilmenau D
END:VEVENT
BEGIN:VEVENT
UID:20260421T123530CEST-5896JfpWZn@85.13.129.106
DTSTAMP:20260421T103530Z
DESCRIPTION:
DTSTART;TZID=Europe/Berlin:20151128T103000
DTEND;TZID=Europe/Berlin:20151128T121500
LOCATION:
SUMMARY:15/16 D1-Jun. VL: SV Germania Ilmenau D - FC Carl Zeiss Jena D2
END:VEVENT
BEGIN:VEVENT
UID:20260421T123530CEST-5901bne4J0@85.13.129.106
DTSTAMP:20260421T103530Z
DESCRIPTION:
DTSTART;TZID=Europe/Berlin:20151205T103000
DTEND;TZID=Europe/Berlin:20151205T121500
LOCATION:
SUMMARY:15/16 D1-Jun. VL: SG Steinach D - SV Germania Ilmenau D
END:VEVENT
BEGIN:VEVENT
UID:20260421T123530CEST-5905g2LN6o@85.13.129.106
DTSTAMP:20260421T103530Z
DESCRIPTION:
DTSTART;TZID=Europe/Berlin:20151114T100000
DTEND;TZID=Europe/Berlin:20151114T114500
LOCATION:
SUMMARY:15/16 D1-Jun. VL: SV Germania Ilmenau D - SG Sbg.-W./ Schalkau D
END:VEVENT
BEGIN:VEVENT
UID:20260421T123530CEST-5910Ludi3m@85.13.129.106
DTSTAMP:20260421T103530Z
DESCRIPTION:
DTSTART;TZID=Europe/Berlin:20160227T103000
DTEND;TZID=Europe/Berlin:20160227T121500
LOCATION:
SUMMARY:15/16 D1-Jun. VL: SV Germania Ilmenau D - FSV Wacker 03 Gotha D
END:VEVENT
BEGIN:VEVENT
UID:20260421T123530CEST-5914i080Zx@85.13.129.106
DTSTAMP:20260421T103530Z
DESCRIPTION:
DTSTART;TZID=Europe/Berlin:20160305T103000
DTEND;TZID=Europe/Berlin:20160305T121500
LOCATION:
SUMMARY:15/16 D1-Jun. VL: SG SpG Helba D - SV Germania Ilmenau D
END:VEVENT
BEGIN:VEVENT
UID:20260421T123530CEST-5918wx3NFl@85.13.129.106
DTSTAMP:20260421T103530Z
DESCRIPTION:
DTSTART;TZID=Europe/Berlin:20160312T103000
DTEND;TZID=Europe/Berlin:20160312T121500
LOCATION:
SUMMARY:15/16 D1-Jun. VL: SV Germania Ilmenau D - FC Rot-Weiß Erfurt D2
END:VEVENT
BEGIN:VEVENT
UID:20260421T123530CEST-5923409ozI@85.13.129.106
DTSTAMP:20260421T103530Z
DESCRIPTION:
DTSTART;TZID=Europe/Berlin:20160319T110000
DTEND;TZID=Europe/Berlin:20160319T124500
LOCATION:
SUMMARY:15/16 D1-Jun. VL: 1. Suhler SV 06 D - SV Germania Ilmenau D
END:VEVENT
BEGIN:VEVENT
UID:20260421T123530CEST-5927TIu0jJ@85.13.129.106
DTSTAMP:20260421T103530Z
DESCRIPTION:
DTSTART;TZID=Europe/Berlin:20160417T103000
DTEND;TZID=Europe/Berlin:20160417T121500
LOCATION:
SUMMARY:15/16 D1-Jun. VL: SV Germania Ilmenau D - VfB Oberweimar D
END:VEVENT
BEGIN:VEVENT
UID:20260421T123530CEST-5931dmT6Om@85.13.129.106
DTSTAMP:20260421T103530Z
DESCRIPTION:
DTSTART;TZID=Europe/Berlin:20160423T103000
DTEND;TZID=Europe/Berlin:20160423T121500
LOCATION:
SUMMARY:15/16 D1-Jun. VL: SG VfB Apolda D - SV Germania Ilmenau D
END:VEVENT
BEGIN:VEVENT
UID:20260421T123530CEST-5936tJo7uV@85.13.129.106
DTSTAMP:20260421T103530Z
DESCRIPTION:
DTSTART;TZID=Europe/Berlin:20160507T103000
DTEND;TZID=Europe/Berlin:20160507T121500
LOCATION:
SUMMARY:15/16 D1-Jun. VL: FSV Sömmerda D - SV Germania Ilmenau D
END:VEVENT
BEGIN:VEVENT
UID:20260421T123530CEST-59401Avxm1@85.13.129.106
DTSTAMP:20260421T103530Z
DESCRIPTION:
DTSTART;TZID=Europe/Berlin:20160511T173000
DTEND;TZID=Europe/Berlin:20160511T191500
LOCATION:
SUMMARY:15/16 D1-Jun. VL: SV Germania Ilmenau D - SV Westring Gotha D
END:VEVENT
BEGIN:VEVENT
UID:20260421T123530CEST-5945JKxujs@85.13.129.106
DTSTAMP:20260421T103530Z
DESCRIPTION:
DTSTART;TZID=Europe/Berlin:20160521T103000
DTEND;TZID=Europe/Berlin:20160521T121500
LOCATION:
SUMMARY:15/16 D1-Jun. VL: FC Carl Zeiss Jena D2 - SV Germania Ilmenau D
END:VEVENT
BEGIN:VEVENT
UID:20260421T123530CEST-5949V3NdbZ@85.13.129.106
DTSTAMP:20260421T103530Z
DESCRIPTION:
DTSTART;TZID=Europe/Berlin:20160528T103000
DTEND;TZID=Europe/Berlin:20160528T121500
LOCATION:
SUMMARY:15/16 D1-Jun. VL: SV Germania Ilmenau D - SG Steinach D
END:VEVENT
BEGIN:VEVENT
UID:20260421T123530CEST-5953cFuK45@85.13.129.106
DTSTAMP:20260421T103530Z
DESCRIPTION:
DTSTART;TZID=Europe/Berlin:20160604T103000
DTEND;TZID=Europe/Berlin:20160604T121500
LOCATION:
SUMMARY:15/16 D1-Jun. VL: SG Sbg.-W./ Schalkau D - SV Germania Ilmenau D
END:VEVENT
END:VCALENDAR
