BEGIN:VCALENDAR
VERSION:2.0
PRODID:-//85.13.129.106//NONSGML kigkonsult.se iCalcreator 2.10.23//
BEGIN:VEVENT
UID:20260422T220143CEST-0361mf7gb9@85.13.129.106
DTSTAMP:20260422T200143Z
DESCRIPTION:
DTSTART;TZID=Europe/Berlin:20180815T173000
DTEND;TZID=Europe/Berlin:20180815T181500
LOCATION:
SUMMARY:18/19 D-Jun. Landespokal: Freilos - ZFC Meuselwitz D
END:VEVENT
BEGIN:VEVENT
UID:20260422T220143CEST-0365k4VUIJ@85.13.129.106
DTSTAMP:20260422T200143Z
DESCRIPTION:
DTSTART;TZID=Europe/Berlin:20180915T103000
DTEND;TZID=Europe/Berlin:20180915T111500
LOCATION:
SUMMARY:18/19 D-Jun. Landespokal: 1. FC Greiz D - ZFC Meuselwitz D
END:VEVENT
BEGIN:VEVENT
UID:20260422T220143CEST-0370Svw0ZA@85.13.129.106
DTSTAMP:20260422T200143Z
DESCRIPTION:
DTSTART;TZID=Europe/Berlin:20181031T110000
DTEND;TZID=Europe/Berlin:20181031T114500
LOCATION:
SUMMARY:18/19 D-Jun. Landespokal: ZFC Meuselwitz D - SG FC Einheit Rudolsta
 dt D
END:VEVENT
BEGIN:VEVENT
UID:20260422T220143CEST-0374Nw3e9T@85.13.129.106
DTSTAMP:20260422T200143Z
DESCRIPTION:
DTSTART;TZID=Europe/Berlin:20190323T110000
DTEND;TZID=Europe/Berlin:20190323T114500
LOCATION:
SUMMARY:18/19 D-Jun. Landespokal: ZFC Meuselwitz D - Bodelwitzer SV D
END:VEVENT
END:VCALENDAR
