BEGIN:VCALENDAR
VERSION:2.0
PRODID:-//85.13.129.106//NONSGML kigkonsult.se iCalcreator 2.10.23//
BEGIN:VEVENT
UID:20260421T122300CEST-2770M03dVr@85.13.129.106
DTSTAMP:20260421T102300Z
DESCRIPTION:
DTSTART;TZID=Europe/Berlin:20161023T103000
DTEND;TZID=Europe/Berlin:20161023T121500
LOCATION:
SUMMARY:16/17 C-Jun. KOL: SV Eintracht Oberland C - SG Schalkau/Sbg.-W. C
END:VEVENT
BEGIN:VEVENT
UID:20260421T122300CEST-2775Rwufh7@85.13.129.106
DTSTAMP:20260421T102300Z
DESCRIPTION:
DTSTART;TZID=Europe/Berlin:20161030T183000
DTEND;TZID=Europe/Berlin:20161030T201500
LOCATION:
SUMMARY:16/17 C-Jun. KOL: SG Römhild C - SV Eintracht Oberland C
END:VEVENT
BEGIN:VEVENT
UID:20260421T122300CEST-2779uxkVvZ@85.13.129.106
DTSTAMP:20260421T102300Z
DESCRIPTION:
DTSTART;TZID=Europe/Berlin:20170329T173000
DTEND;TZID=Europe/Berlin:20170329T191500
LOCATION:
SUMMARY:16/17 C-Jun. KOL: SV Eintracht Oberland C - SG Lauscha/Neuhaus C
END:VEVENT
BEGIN:VEVENT
UID:20260421T122300CEST-27847zx9TA@85.13.129.106
DTSTAMP:20260421T102300Z
DESCRIPTION:
DTSTART;TZID=Europe/Berlin:20170402T103000
DTEND;TZID=Europe/Berlin:20170402T121500
LOCATION:
SUMMARY:16/17 C-Jun. KOL: SV Eintracht Oberland C - SG 1. FC Sonneberg 04 C
END:VEVENT
BEGIN:VEVENT
UID:20260421T122300CEST-2788gBlbkV@85.13.129.106
DTSTAMP:20260421T102300Z
DESCRIPTION:
DTSTART;TZID=Europe/Berlin:20170421T173000
DTEND;TZID=Europe/Berlin:20170421T191500
LOCATION:
SUMMARY:16/17 C-Jun. KOL: SV 03 Eisfeld C - SV Eintracht Oberland C
END:VEVENT
BEGIN:VEVENT
UID:20260421T122300CEST-2793M0V5w8@85.13.129.106
DTSTAMP:20260421T102300Z
DESCRIPTION:Schalkau
DTSTART;TZID=Europe/Berlin:20170426T180000
DTEND;TZID=Europe/Berlin:20170426T194500
LOCATION:Katzberger Straße 6\n96528 Schalkau\, 96528 Schalkau
SUMMARY:16/17 C-Jun. KOL: SG Schalkau/Sbg.-W. C - SV Eintracht Oberland C
END:VEVENT
BEGIN:VEVENT
UID:20260421T122300CEST-2797zx54pw@85.13.129.106
DTSTAMP:20260421T102300Z
DESCRIPTION:Schalkau
DTSTART;TZID=Europe/Berlin:20170505T180000
DTEND;TZID=Europe/Berlin:20170505T194500
LOCATION:Katzberger Straße 6\n96528 Schalkau\, 96528 Schalkau
SUMMARY:16/17 C-Jun. KOL: SV Eintracht Oberland C - SG Römhild C
END:VEVENT
BEGIN:VEVENT
UID:20260421T122300CEST-2801czdwAB@85.13.129.106
DTSTAMP:20260421T102300Z
DESCRIPTION:Schalkau
DTSTART;TZID=Europe/Berlin:20170512T180000
DTEND;TZID=Europe/Berlin:20170512T194500
LOCATION:Katzberger Straße 6\n96528 Schalkau\, 96528 Schalkau
SUMMARY:16/17 C-Jun. KOL: SG Lauscha/Neuhaus C - SV Eintracht Oberland C
END:VEVENT
BEGIN:VEVENT
UID:20260421T122300CEST-2806AVSJZL@85.13.129.106
DTSTAMP:20260421T102300Z
DESCRIPTION:Schalkau
DTSTART;TZID=Europe/Berlin:20170519T173000
DTEND;TZID=Europe/Berlin:20170519T191500
LOCATION:Katzberger Straße 6\n96528 Schalkau\, 96528 Schalkau
SUMMARY:16/17 C-Jun. KOL: SG 1. FC Sonneberg 04 C - SV Eintracht Oberland C
END:VEVENT
BEGIN:VEVENT
UID:20260421T122300CEST-2810MtHLLB@85.13.129.106
DTSTAMP:20260421T102300Z
DESCRIPTION:Schalkau
DTSTART;TZID=Europe/Berlin:20170526T180000
DTEND;TZID=Europe/Berlin:20170526T194500
LOCATION:Katzberger Straße 6\n96528 Schalkau\, 96528 Schalkau
SUMMARY:16/17 C-Jun. KOL: SV Eintracht Oberland C - SV 03 Eisfeld C
END:VEVENT
END:VCALENDAR
