BEGIN:VCALENDAR
VERSION:2.0
PRODID:-//85.13.129.106//NONSGML kigkonsult.se iCalcreator 2.10.23//
BEGIN:VEVENT
UID:20260425T214813CEST-1953V5cwsr@85.13.129.106
DTSTAMP:20260425T194813Z
DESCRIPTION:
DTSTART;TZID=Europe/Berlin:20160724T150000
DTEND;TZID=Europe/Berlin:20160724T164500
LOCATION:
SUMMARY:16/17 Herren Kreispokal: SG Milz/Eicha II - SV EK Veilsdorf II
END:VEVENT
END:VCALENDAR
