BEGIN:VCALENDAR
VERSION:2.0
PRODID:-//85.13.129.106//NONSGML kigkonsult.se iCalcreator 2.10.23//
BEGIN:VEVENT
UID:20260423T111422CEST-94906ggFnx@85.13.129.106
DTSTAMP:20260423T091422Z
DESCRIPTION:
DTSTART;TZID=Europe/Berlin:20160214T100000
DTEND;TZID=Europe/Berlin:20160214T114500
LOCATION:
SUMMARY:15/16 G-Junioren HKM 1+2 ST: TSV 1911 Themar G - SV Nahetal Hintern
 ah G
END:VEVENT
BEGIN:VEVENT
UID:20260423T111422CEST-949550u86d@85.13.129.106
DTSTAMP:20260423T091422Z
DESCRIPTION:
DTSTART;TZID=Europe/Berlin:20160214T100000
DTEND;TZID=Europe/Berlin:20160214T114500
LOCATION:
SUMMARY:15/16 G-Junioren HKM 1+2 ST: SV Nahetal Hinternah G - SC 07 Schleus
 ingen G
END:VEVENT
BEGIN:VEVENT
UID:20260423T111422CEST-9499g1T4MX@85.13.129.106
DTSTAMP:20260423T091422Z
DESCRIPTION:
DTSTART;TZID=Europe/Berlin:20160214T110000
DTEND;TZID=Europe/Berlin:20160214T124500
LOCATION:
SUMMARY:15/16 G-Junioren HKM 1+2 ST: SV Nahetal Hinternah G - FC-BW Schalka
 u G
END:VEVENT
BEGIN:VEVENT
UID:20260423T111422CEST-95030Cdn9D@85.13.129.106
DTSTAMP:20260423T091422Z
DESCRIPTION:
DTSTART;TZID=Europe/Berlin:20160214T113000
DTEND;TZID=Europe/Berlin:20160214T131500
LOCATION:
SUMMARY:15/16 G-Junioren HKM 1+2 ST: FSV 06 Eintr. Hildburghausen G - SV Na
 hetal Hinternah G
END:VEVENT
BEGIN:VEVENT
UID:20260423T111422CEST-9508HAFvUU@85.13.129.106
DTSTAMP:20260423T091422Z
DESCRIPTION:
DTSTART;TZID=Europe/Berlin:20160305T140000
DTEND;TZID=Europe/Berlin:20160305T154500
LOCATION:
SUMMARY:15/16 G-Junioren HKM 1+2 ST: TSV 1911 Themar G - SV Nahetal Hintern
 ah G
END:VEVENT
BEGIN:VEVENT
UID:20260423T111422CEST-9512FbtXbT@85.13.129.106
DTSTAMP:20260423T091422Z
DESCRIPTION:
DTSTART;TZID=Europe/Berlin:20160305T143000
DTEND;TZID=Europe/Berlin:20160305T161500
LOCATION:
SUMMARY:15/16 G-Junioren HKM 1+2 ST: SV Nahetal Hinternah G - SC 07 Schleus
 ingen G
END:VEVENT
BEGIN:VEVENT
UID:20260423T111422CEST-95178JFV1K@85.13.129.106
DTSTAMP:20260423T091422Z
DESCRIPTION:
DTSTART;TZID=Europe/Berlin:20160305T150000
DTEND;TZID=Europe/Berlin:20160305T164500
LOCATION:
SUMMARY:15/16 G-Junioren HKM 1+2 ST: SV Nahetal Hinternah G - FC-BW Schalka
 u G
END:VEVENT
BEGIN:VEVENT
UID:20260423T111422CEST-9521mZAVO5@85.13.129.106
DTSTAMP:20260423T091422Z
DESCRIPTION:
DTSTART;TZID=Europe/Berlin:20160305T153000
DTEND;TZID=Europe/Berlin:20160305T171500
LOCATION:
SUMMARY:15/16 G-Junioren HKM 1+2 ST: FSV 06 Eintr. Hildburghausen G - SV Na
 hetal Hinternah G
END:VEVENT
END:VCALENDAR
