BEGIN:VCALENDAR
VERSION:2.0
PRODID:-//85.13.129.106//NONSGML kigkonsult.se iCalcreator 2.10.23//
BEGIN:VEVENT
UID:20260421T120252CEST-2073iM2BgR@85.13.129.106
DTSTAMP:20260421T100252Z
DESCRIPTION:
DTSTART;TZID=Europe/Berlin:20180825T140000
DTEND;TZID=Europe/Berlin:20180825T153500
LOCATION:
SUMMARY:18/19 B-Jun. Pokal: Freilos - Erlauer SV Grün-Weiß B
END:VEVENT
BEGIN:VEVENT
UID:20260421T120252CEST-2080i9IPXX@85.13.129.106
DTSTAMP:20260421T100252Z
DESCRIPTION:
DTSTART;TZID=Europe/Berlin:20180825T140000
DTEND;TZID=Europe/Berlin:20180825T153500
LOCATION:
SUMMARY:18/19 B-Jun. Pokal: Freilos - SV Falke Sachsenbrunn B
END:VEVENT
BEGIN:VEVENT
UID:20260421T120252CEST-2089ubB7Rw@85.13.129.106
DTSTAMP:20260421T100252Z
DESCRIPTION:
DTSTART;TZID=Europe/Berlin:20180825T140000
DTEND;TZID=Europe/Berlin:20180825T153500
LOCATION:
SUMMARY:18/19 B-Jun. Pokal: Freilos - SG SC 06 Oberlind B
END:VEVENT
BEGIN:VEVENT
UID:20260421T120252CEST-2096Zd6NSv@85.13.129.106
DTSTAMP:20260421T100252Z
DESCRIPTION:
DTSTART;TZID=Europe/Berlin:20180825T140000
DTEND;TZID=Europe/Berlin:20180825T153500
LOCATION:
SUMMARY:18/19 B-Jun. Pokal: Freilos - SG Römhild B
END:VEVENT
BEGIN:VEVENT
UID:20260421T120252CEST-2104vGuagp@85.13.129.106
DTSTAMP:20260421T100252Z
DESCRIPTION:
DTSTART;TZID=Europe/Berlin:20180825T140000
DTEND;TZID=Europe/Berlin:20180825T153500
LOCATION:
SUMMARY:18/19 B-Jun. Pokal: Freilos - SG Lauscha/Neuhaus B
END:VEVENT
END:VCALENDAR
