BEGIN:VCALENDAR
VERSION:2.0
PRODID:-//85.13.129.106//NONSGML kigkonsult.se iCalcreator 2.10.23//
BEGIN:VEVENT
UID:20260422T081514CEST-4794XIBkEt@85.13.129.106
DTSTAMP:20260422T061514Z
DESCRIPTION:
DTSTART;TZID=Europe/Berlin:20120804T150000
DTEND;TZID=Europe/Berlin:20120804T164500
LOCATION:
SUMMARY:12/13 Herren 1.KK-O: TSV Wacker Steinheid - 1. FC Köppelsdorf
END:VEVENT
BEGIN:VEVENT
UID:20260422T081514CEST-4799nrOo2S@85.13.129.106
DTSTAMP:20260422T061514Z
DESCRIPTION:
DTSTART;TZID=Europe/Berlin:20120811T150000
DTEND;TZID=Europe/Berlin:20120811T164500
LOCATION:
SUMMARY:12/13 Herren 1.KK-O: 1. FC Köppelsdorf - VfB Steinach
END:VEVENT
BEGIN:VEVENT
UID:20260422T081514CEST-4803WGZoxZ@85.13.129.106
DTSTAMP:20260422T061514Z
DESCRIPTION:
DTSTART;TZID=Europe/Berlin:20120818T160000
DTEND;TZID=Europe/Berlin:20120818T174500
LOCATION:
SUMMARY:12/13 Herren 1.KK-O: VfB Grün-Weiß 28 Fehrenbach - 1. FC Köppelsdor
 f
END:VEVENT
BEGIN:VEVENT
UID:20260422T081514CEST-4808JeITWb@85.13.129.106
DTSTAMP:20260422T061514Z
DESCRIPTION:
DTSTART;TZID=Europe/Berlin:20120826T150000
DTEND;TZID=Europe/Berlin:20120826T164500
LOCATION:
SUMMARY:12/13 Herren 1.KK-O: 1. FC Köppelsdorf - SV Edelweiß Crock
END:VEVENT
BEGIN:VEVENT
UID:20260422T081514CEST-4812lVbTOa@85.13.129.106
DTSTAMP:20260422T061514Z
DESCRIPTION:
DTSTART;TZID=Europe/Berlin:20120902T150000
DTEND;TZID=Europe/Berlin:20120902T164500
LOCATION:
SUMMARY:12/13 Herren 1.KK-O: VfR Jagdshof 1931 - 1. FC Köppelsdorf
END:VEVENT
BEGIN:VEVENT
UID:20260422T081514CEST-4818mucuuk@85.13.129.106
DTSTAMP:20260422T061514Z
DESCRIPTION:
DTSTART;TZID=Europe/Berlin:20120909T150000
DTEND;TZID=Europe/Berlin:20120909T164500
LOCATION:
SUMMARY:12/13 Herren 1.KK-O: 1. FC Köppelsdorf - SV Germania Judenbach
END:VEVENT
BEGIN:VEVENT
UID:20260422T081514CEST-48222IdvVE@85.13.129.106
DTSTAMP:20260422T061514Z
DESCRIPTION:
DTSTART;TZID=Europe/Berlin:20120915T160000
DTEND;TZID=Europe/Berlin:20120915T174500
LOCATION:
SUMMARY:12/13 Herren 1.KK-O: TSV Germ. Sonneberg-West - 1. FC Köppelsdorf
END:VEVENT
BEGIN:VEVENT
UID:20260422T081514CEST-4827jcFEU6@85.13.129.106
DTSTAMP:20260422T061514Z
DESCRIPTION:
DTSTART;TZID=Europe/Berlin:20120922T160000
DTEND;TZID=Europe/Berlin:20120922T174500
LOCATION:
SUMMARY:12/13 Herren 1.KK-O: 1. FC Köppelsdorf - SG Neuhaus-Schierschnitz/ 
 Mupperg II
END:VEVENT
BEGIN:VEVENT
UID:20260422T081514CEST-4831vvrrVG@85.13.129.106
DTSTAMP:20260422T061514Z
DESCRIPTION:
DTSTART;TZID=Europe/Berlin:20120930T150000
DTEND;TZID=Europe/Berlin:20120930T164500
LOCATION:
SUMMARY:12/13 Herren 1.KK-O: TSV 1894 Unterlind - 1. FC Köppelsdorf
END:VEVENT
BEGIN:VEVENT
UID:20260422T081514CEST-48350Io9fp@85.13.129.106
DTSTAMP:20260422T061514Z
DESCRIPTION:
DTSTART;TZID=Europe/Berlin:20121007T150000
DTEND;TZID=Europe/Berlin:20121007T164500
LOCATION:
SUMMARY:12/13 Herren 1.KK-O: 1. FC Köppelsdorf - SV Falke Sachsenbrunn II
END:VEVENT
BEGIN:VEVENT
UID:20260422T081514CEST-4840tVSwrV@85.13.129.106
DTSTAMP:20260422T061514Z
DESCRIPTION:
DTSTART;TZID=Europe/Berlin:20121013T130000
DTEND;TZID=Europe/Berlin:20121013T144500
LOCATION:
SUMMARY:12/13 Herren 1.KK-O: SG Lauscha/Neuhaus II - 1. FC Köppelsdorf
END:VEVENT
BEGIN:VEVENT
UID:20260422T081514CEST-4845ch9VSL@85.13.129.106
DTSTAMP:20260422T061514Z
DESCRIPTION:
DTSTART;TZID=Europe/Berlin:20121021T150000
DTEND;TZID=Europe/Berlin:20121021T164500
LOCATION:
SUMMARY:12/13 Herren 1.KK-O: TSV 1923 Neuenbau - 1. FC Köppelsdorf
END:VEVENT
BEGIN:VEVENT
UID:20260422T081514CEST-4849VLAbu6@85.13.129.106
DTSTAMP:20260422T061514Z
DESCRIPTION:
DTSTART;TZID=Europe/Berlin:20121028T150000
DTEND;TZID=Europe/Berlin:20121028T164500
LOCATION:
SUMMARY:12/13 Herren 1.KK-O: 1. FC Köppelsdorf - FC-BW Schalkau
END:VEVENT
BEGIN:VEVENT
UID:20260422T081514CEST-48536TzcIT@85.13.129.106
DTSTAMP:20260422T061514Z
DESCRIPTION:
DTSTART;TZID=Europe/Berlin:20121104T143000
DTEND;TZID=Europe/Berlin:20121104T161500
LOCATION:
SUMMARY:12/13 Herren 1.KK-O: 1. FC Köppelsdorf - TSV Wacker Steinheid
END:VEVENT
BEGIN:VEVENT
UID:20260422T081514CEST-4858KKlB2L@85.13.129.106
DTSTAMP:20260422T061514Z
DESCRIPTION:
DTSTART;TZID=Europe/Berlin:20121110T143000
DTEND;TZID=Europe/Berlin:20121110T161500
LOCATION:
SUMMARY:12/13 Herren 1.KK-O: VfB Steinach - 1. FC Köppelsdorf
END:VEVENT
BEGIN:VEVENT
UID:20260422T081514CEST-4862Bvh1VM@85.13.129.106
DTSTAMP:20260422T061514Z
DESCRIPTION:
DTSTART;TZID=Europe/Berlin:20130310T150000
DTEND;TZID=Europe/Berlin:20130310T164500
LOCATION:
SUMMARY:12/13 Herren 1.KK-O: 1. FC Köppelsdorf - VfB Grün-Weiß 28 Fehrenbac
 h
END:VEVENT
BEGIN:VEVENT
UID:20260422T081514CEST-4867flABtz@85.13.129.106
DTSTAMP:20260422T061514Z
DESCRIPTION:
DTSTART;TZID=Europe/Berlin:20130317T150000
DTEND;TZID=Europe/Berlin:20130317T164500
LOCATION:
SUMMARY:12/13 Herren 1.KK-O: SV Edelweiß Crock - 1. FC Köppelsdorf
END:VEVENT
BEGIN:VEVENT
UID:20260422T081514CEST-48718USA3D@85.13.129.106
DTSTAMP:20260422T061514Z
DESCRIPTION:
DTSTART;TZID=Europe/Berlin:20130602T150000
DTEND;TZID=Europe/Berlin:20130602T164500
LOCATION:
SUMMARY:12/13 Herren 1.KK-O: 1. FC Köppelsdorf - VfR Jagdshof 1931
END:VEVENT
BEGIN:VEVENT
UID:20260422T081514CEST-4876Oev5Ar@85.13.129.106
DTSTAMP:20260422T061514Z
DESCRIPTION:
DTSTART;TZID=Europe/Berlin:20130501T150000
DTEND;TZID=Europe/Berlin:20130501T164500
LOCATION:
SUMMARY:12/13 Herren 1.KK-O: SV Germania Judenbach - 1. FC Köppelsdorf
END:VEVENT
BEGIN:VEVENT
UID:20260422T081514CEST-4880UMAVtx@85.13.129.106
DTSTAMP:20260422T061514Z
DESCRIPTION:
DTSTART;TZID=Europe/Berlin:20130413T160000
DTEND;TZID=Europe/Berlin:20130413T174500
LOCATION:
SUMMARY:12/13 Herren 1.KK-O: 1. FC Köppelsdorf - TSV Germ. Sonneberg-West
END:VEVENT
BEGIN:VEVENT
UID:20260422T081514CEST-4884fd3AlS@85.13.129.106
DTSTAMP:20260422T061514Z
DESCRIPTION:
DTSTART;TZID=Europe/Berlin:20130420T160000
DTEND;TZID=Europe/Berlin:20130420T174500
LOCATION:
SUMMARY:12/13 Herren 1.KK-O: SG Neuhaus-Schierschnitz/ Mupperg II - 1. FC K
 öppelsdorf
END:VEVENT
BEGIN:VEVENT
UID:20260422T081514CEST-48894zNsPD@85.13.129.106
DTSTAMP:20260422T061514Z
DESCRIPTION:
DTSTART;TZID=Europe/Berlin:20130428T150000
DTEND;TZID=Europe/Berlin:20130428T164500
LOCATION:
SUMMARY:12/13 Herren 1.KK-O: 1. FC Köppelsdorf - TSV 1894 Unterlind
END:VEVENT
BEGIN:VEVENT
UID:20260422T081514CEST-4893zCvNF2@85.13.129.106
DTSTAMP:20260422T061514Z
DESCRIPTION:
DTSTART;TZID=Europe/Berlin:20130505T130000
DTEND;TZID=Europe/Berlin:20130505T144500
LOCATION:
SUMMARY:12/13 Herren 1.KK-O: SV Falke Sachsenbrunn II - 1. FC Köppelsdorf
END:VEVENT
BEGIN:VEVENT
UID:20260422T081514CEST-4898kUiKgC@85.13.129.106
DTSTAMP:20260422T061514Z
DESCRIPTION:
DTSTART;TZID=Europe/Berlin:20130512T150000
DTEND;TZID=Europe/Berlin:20130512T164500
LOCATION:
SUMMARY:12/13 Herren 1.KK-O: 1. FC Köppelsdorf - SG Lauscha/Neuhaus II
END:VEVENT
BEGIN:VEVENT
UID:20260422T081514CEST-4902Bgak1k@85.13.129.106
DTSTAMP:20260422T061514Z
DESCRIPTION:
DTSTART;TZID=Europe/Berlin:20130526T150000
DTEND;TZID=Europe/Berlin:20130526T164500
LOCATION:
SUMMARY:12/13 Herren 1.KK-O: 1. FC Köppelsdorf - TSV 1923 Neuenbau
END:VEVENT
BEGIN:VEVENT
UID:20260422T081514CEST-4906XD28BP@85.13.129.106
DTSTAMP:20260422T061514Z
DESCRIPTION:Schalkau
DTSTART;TZID=Europe/Berlin:20130608T160000
DTEND;TZID=Europe/Berlin:20130608T174500
LOCATION:Katzberger Straße 6\n96528 Schalkau\, 96528 Schalkau
SUMMARY:12/13 Herren 1.KK-O: FC-BW Schalkau - 1. FC Köppelsdorf
END:VEVENT
END:VCALENDAR
