BEGIN:VCALENDAR
VERSION:2.0
PRODID:-//85.13.129.106//NONSGML kigkonsult.se iCalcreator 2.10.23//
BEGIN:VEVENT
UID:20260425T151606CEST-9258kwV0Dc@85.13.129.106
DTSTAMP:20260425T131606Z
DESCRIPTION:
DTSTART;TZID=Europe/Berlin:20120804T150000
DTEND;TZID=Europe/Berlin:20120804T164500
LOCATION:
SUMMARY:12/13 Herren 1.KK-O: SV Edelweiß Crock - TSV 1894 Unterlind
END:VEVENT
BEGIN:VEVENT
UID:20260425T151606CEST-9263A2BsFR@85.13.129.106
DTSTAMP:20260425T131606Z
DESCRIPTION:
DTSTART;TZID=Europe/Berlin:20120812T150000
DTEND;TZID=Europe/Berlin:20120812T164500
LOCATION:
SUMMARY:12/13 Herren 1.KK-O: TSV 1894 Unterlind - VfR Jagdshof 1931
END:VEVENT
BEGIN:VEVENT
UID:20260425T151606CEST-92670BuGF7@85.13.129.106
DTSTAMP:20260425T131606Z
DESCRIPTION:
DTSTART;TZID=Europe/Berlin:20120819T150000
DTEND;TZID=Europe/Berlin:20120819T164500
LOCATION:
SUMMARY:12/13 Herren 1.KK-O: SV Germania Judenbach - TSV 1894 Unterlind
END:VEVENT
BEGIN:VEVENT
UID:20260425T151606CEST-9272G1CSoM@85.13.129.106
DTSTAMP:20260425T131606Z
DESCRIPTION:
DTSTART;TZID=Europe/Berlin:20120826T150000
DTEND;TZID=Europe/Berlin:20120826T164500
LOCATION:
SUMMARY:12/13 Herren 1.KK-O: TSV 1894 Unterlind - TSV Germ. Sonneberg-West
END:VEVENT
BEGIN:VEVENT
UID:20260425T151606CEST-9277LOvNkl@85.13.129.106
DTSTAMP:20260425T131606Z
DESCRIPTION:
DTSTART;TZID=Europe/Berlin:20120901T160000
DTEND;TZID=Europe/Berlin:20120901T174500
LOCATION:
SUMMARY:12/13 Herren 1.KK-O: SG Neuhaus-Schierschnitz/ Mupperg II - TSV 189
 4 Unterlind
END:VEVENT
BEGIN:VEVENT
UID:20260425T151606CEST-9281wlxeU3@85.13.129.106
DTSTAMP:20260425T131606Z
DESCRIPTION:
DTSTART;TZID=Europe/Berlin:20120909T150000
DTEND;TZID=Europe/Berlin:20120909T164500
LOCATION:
SUMMARY:12/13 Herren 1.KK-O: TSV 1894 Unterlind - TSV 1923 Neuenbau
END:VEVENT
BEGIN:VEVENT
UID:20260425T151606CEST-9286OPvTUM@85.13.129.106
DTSTAMP:20260425T131606Z
DESCRIPTION:
DTSTART;TZID=Europe/Berlin:20120916T150000
DTEND;TZID=Europe/Berlin:20120916T164500
LOCATION:
SUMMARY:12/13 Herren 1.KK-O: TSV 1894 Unterlind - SV Falke Sachsenbrunn II
END:VEVENT
BEGIN:VEVENT
UID:20260425T151606CEST-9291THFj0D@85.13.129.106
DTSTAMP:20260425T131606Z
DESCRIPTION:
DTSTART;TZID=Europe/Berlin:20120922T130000
DTEND;TZID=Europe/Berlin:20120922T144500
LOCATION:
SUMMARY:12/13 Herren 1.KK-O: SG Lauscha/Neuhaus II - TSV 1894 Unterlind
END:VEVENT
BEGIN:VEVENT
UID:20260425T151606CEST-9296N90ssO@85.13.129.106
DTSTAMP:20260425T131606Z
DESCRIPTION:
DTSTART;TZID=Europe/Berlin:20120930T150000
DTEND;TZID=Europe/Berlin:20120930T164500
LOCATION:
SUMMARY:12/13 Herren 1.KK-O: TSV 1894 Unterlind - 1. FC Köppelsdorf
END:VEVENT
BEGIN:VEVENT
UID:20260425T151606CEST-9301l7o99D@85.13.129.106
DTSTAMP:20260425T131606Z
DESCRIPTION:Schalkau
DTSTART;TZID=Europe/Berlin:20121007T150000
DTEND;TZID=Europe/Berlin:20121007T164500
LOCATION:Katzberger Straße 6\n96528 Schalkau\, 96528 Schalkau
SUMMARY:12/13 Herren 1.KK-O: FC-BW Schalkau - TSV 1894 Unterlind
END:VEVENT
BEGIN:VEVENT
UID:20260425T151606CEST-9305Le5CdC@85.13.129.106
DTSTAMP:20260425T131606Z
DESCRIPTION:Schalkau
DTSTART;TZID=Europe/Berlin:20121014T150000
DTEND;TZID=Europe/Berlin:20121014T164500
LOCATION:Katzberger Straße 6\n96528 Schalkau\, 96528 Schalkau
SUMMARY:12/13 Herren 1.KK-O: TSV 1894 Unterlind - TSV Wacker Steinheid
END:VEVENT
BEGIN:VEVENT
UID:20260425T151606CEST-9310ZoUpZj@85.13.129.106
DTSTAMP:20260425T131606Z
DESCRIPTION:Schalkau
DTSTART;TZID=Europe/Berlin:20121021T130000
DTEND;TZID=Europe/Berlin:20121021T144500
LOCATION:Katzberger Straße 6\n96528 Schalkau\, 96528 Schalkau
SUMMARY:12/13 Herren 1.KK-O: VfB Steinach - TSV 1894 Unterlind
END:VEVENT
BEGIN:VEVENT
UID:20260425T151606CEST-9314RkuDUX@85.13.129.106
DTSTAMP:20260425T131606Z
DESCRIPTION:Schalkau
DTSTART;TZID=Europe/Berlin:20121028T150000
DTEND;TZID=Europe/Berlin:20121028T164500
LOCATION:Katzberger Straße 6\n96528 Schalkau\, 96528 Schalkau
SUMMARY:12/13 Herren 1.KK-O: TSV 1894 Unterlind - VfB Grün-Weiß 28 Fehrenba
 ch
END:VEVENT
BEGIN:VEVENT
UID:20260425T151606CEST-9319sU5F6l@85.13.129.106
DTSTAMP:20260425T131606Z
DESCRIPTION:Schalkau
DTSTART;TZID=Europe/Berlin:20121104T143000
DTEND;TZID=Europe/Berlin:20121104T161500
LOCATION:Katzberger Straße 6\n96528 Schalkau\, 96528 Schalkau
SUMMARY:12/13 Herren 1.KK-O: TSV 1894 Unterlind - SV Edelweiß Crock
END:VEVENT
BEGIN:VEVENT
UID:20260425T151606CEST-9324E0VDuV@85.13.129.106
DTSTAMP:20260425T131606Z
DESCRIPTION:Schalkau
DTSTART;TZID=Europe/Berlin:20121111T143000
DTEND;TZID=Europe/Berlin:20121111T161500
LOCATION:Katzberger Straße 6\n96528 Schalkau\, 96528 Schalkau
SUMMARY:12/13 Herren 1.KK-O: VfR Jagdshof 1931 - TSV 1894 Unterlind
END:VEVENT
BEGIN:VEVENT
UID:20260425T151606CEST-9329xvdSSs@85.13.129.106
DTSTAMP:20260425T131606Z
DESCRIPTION:Schalkau
DTSTART;TZID=Europe/Berlin:20130310T150000
DTEND;TZID=Europe/Berlin:20130310T164500
LOCATION:Katzberger Straße 6\n96528 Schalkau\, 96528 Schalkau
SUMMARY:12/13 Herren 1.KK-O: TSV 1894 Unterlind - SV Germania Judenbach
END:VEVENT
BEGIN:VEVENT
UID:20260425T151606CEST-9334olLRH0@85.13.129.106
DTSTAMP:20260425T131606Z
DESCRIPTION:Schalkau
DTSTART;TZID=Europe/Berlin:20130401T150000
DTEND;TZID=Europe/Berlin:20130401T164500
LOCATION:Katzberger Straße 6\n96528 Schalkau\, 96528 Schalkau
SUMMARY:12/13 Herren 1.KK-O: TSV Germ. Sonneberg-West - TSV 1894 Unterlind
END:VEVENT
BEGIN:VEVENT
UID:20260425T151606CEST-9339GX6skH@85.13.129.106
DTSTAMP:20260425T131606Z
DESCRIPTION:Schalkau
DTSTART;TZID=Europe/Berlin:20130606T184500
DTEND;TZID=Europe/Berlin:20130606T203000
LOCATION:Katzberger Straße 6\n96528 Schalkau\, 96528 Schalkau
SUMMARY:12/13 Herren 1.KK-O: TSV 1894 Unterlind - SG Neuhaus-Schierschnitz/
  Mupperg II
END:VEVENT
BEGIN:VEVENT
UID:20260425T151606CEST-9343smspps@85.13.129.106
DTSTAMP:20260425T131606Z
DESCRIPTION:Schalkau
DTSTART;TZID=Europe/Berlin:20130407T150000
DTEND;TZID=Europe/Berlin:20130407T164500
LOCATION:Katzberger Straße 6\n96528 Schalkau\, 96528 Schalkau
SUMMARY:12/13 Herren 1.KK-O: TSV 1894 Unterlind - TSV 1923 Neuenbau
END:VEVENT
BEGIN:VEVENT
UID:20260425T151606CEST-9348JVAb1B@85.13.129.106
DTSTAMP:20260425T131606Z
DESCRIPTION:Schalkau
DTSTART;TZID=Europe/Berlin:20130414T130000
DTEND;TZID=Europe/Berlin:20130414T144500
LOCATION:Katzberger Straße 6\n96528 Schalkau\, 96528 Schalkau
SUMMARY:12/13 Herren 1.KK-O: SV Falke Sachsenbrunn II - TSV 1894 Unterlind
END:VEVENT
BEGIN:VEVENT
UID:20260425T151606CEST-93520VJNl6@85.13.129.106
DTSTAMP:20260425T131606Z
DESCRIPTION:Schalkau
DTSTART;TZID=Europe/Berlin:20130420T160000
DTEND;TZID=Europe/Berlin:20130420T174500
LOCATION:Katzberger Straße 6\n96528 Schalkau\, 96528 Schalkau
SUMMARY:12/13 Herren 1.KK-O: TSV 1894 Unterlind - SG Lauscha/Neuhaus II
END:VEVENT
BEGIN:VEVENT
UID:20260425T151606CEST-9356eLgFI1@85.13.129.106
DTSTAMP:20260425T131606Z
DESCRIPTION:Schalkau
DTSTART;TZID=Europe/Berlin:20130428T150000
DTEND;TZID=Europe/Berlin:20130428T164500
LOCATION:Katzberger Straße 6\n96528 Schalkau\, 96528 Schalkau
SUMMARY:12/13 Herren 1.KK-O: 1. FC Köppelsdorf - TSV 1894 Unterlind
END:VEVENT
BEGIN:VEVENT
UID:20260425T151606CEST-9361RoFD9C@85.13.129.106
DTSTAMP:20260425T131606Z
DESCRIPTION:Schalkau
DTSTART;TZID=Europe/Berlin:20130505T150000
DTEND;TZID=Europe/Berlin:20130505T164500
LOCATION:Katzberger Straße 6\n96528 Schalkau\, 96528 Schalkau
SUMMARY:12/13 Herren 1.KK-O: TSV 1894 Unterlind - FC-BW Schalkau
END:VEVENT
BEGIN:VEVENT
UID:20260425T151606CEST-9365EXULaC@85.13.129.106
DTSTAMP:20260425T131606Z
DESCRIPTION:Schalkau
DTSTART;TZID=Europe/Berlin:20130512T150000
DTEND;TZID=Europe/Berlin:20130512T164500
LOCATION:Katzberger Straße 6\n96528 Schalkau\, 96528 Schalkau
SUMMARY:12/13 Herren 1.KK-O: TSV Wacker Steinheid - TSV 1894 Unterlind
END:VEVENT
BEGIN:VEVENT
UID:20260425T151606CEST-9370zCLnzS@85.13.129.106
DTSTAMP:20260425T131606Z
DESCRIPTION:Schalkau
DTSTART;TZID=Europe/Berlin:20130526T150000
DTEND;TZID=Europe/Berlin:20130526T164500
LOCATION:Katzberger Straße 6\n96528 Schalkau\, 96528 Schalkau
SUMMARY:12/13 Herren 1.KK-O: TSV 1894 Unterlind - VfB Steinach
END:VEVENT
BEGIN:VEVENT
UID:20260425T151606CEST-9375MnnR1V@85.13.129.106
DTSTAMP:20260425T131606Z
DESCRIPTION:Schalkau
DTSTART;TZID=Europe/Berlin:20130608T160000
DTEND;TZID=Europe/Berlin:20130608T174500
LOCATION:Katzberger Straße 6\n96528 Schalkau\, 96528 Schalkau
SUMMARY:12/13 Herren 1.KK-O: VfB Grün-Weiß 28 Fehrenbach - TSV 1894 Unterli
 nd
END:VEVENT
END:VCALENDAR
